BEGIN:VCALENDAR
VERSION:2.0
PRODID:-//Solar Rais - ECPv6.15.18//NONSGML v1.0//EN
CALSCALE:GREGORIAN
METHOD:PUBLISH
X-WR-CALNAME:Solar Rais
X-ORIGINAL-URL:https://solarrais.co.za
X-WR-CALDESC:Events for Solar Rais
REFRESH-INTERVAL;VALUE=DURATION:PT1H
X-Robots-Tag:noindex
X-PUBLISHED-TTL:PT1H
BEGIN:VTIMEZONE
TZID:Africa/Johannesburg
BEGIN:STANDARD
TZOFFSETFROM:+0200
TZOFFSETTO:+0200
TZNAME:SAST
DTSTART:20250101T000000
END:STANDARD
END:VTIMEZONE
BEGIN:VEVENT
DTSTART;TZID=Africa/Johannesburg:20260320T100000
DTEND;TZID=Africa/Johannesburg:20260320T103000
DTSTAMP:20260422T103622
CREATED:20260216T163202Z
LAST-MODIFIED:20260226T174910Z
UID:3128-1774000800-1774002600@solarrais.co.za
SUMMARY:How to add sustainability to a business plan
DESCRIPTION:Sustainability is no longer optional\, it is becoming essential for business competitiveness\, cost savings\, funding access\, and long-term survival. \nIn this practical webinar we will walk you through how to strategically embed sustainability into your business model. Not as an add-on\, but as a core driver of growth. \nYou will learn how sustainability can improve operational efficiency\, strengthen your brand\, attract customers\, and position your business for the future green economy. \nThis session is designed for both small and growing businesses across all industries. \nYou will get a business model canvas template to use for free. We offer business plan review sessions separately. \nWhat will you learn: \n• What sustainability means in a business context• Why sustainability is critical for business competitiveness• How to add sustainability goals to your business plan• How to reduce operational costs through energy efficiency• What is the Paris Agreement and what are the SDGs• How sustainability improves funding and investment opportunities• How to measure and track sustainability progress• Real examples of sustainability in action from Greater Tygerberg Partnership \nDuration \n30 minutes \nCost \nFREE
URL:https://solarrais.co.za/events/how-to-add-sustainability-to-a-business-plan/
LOCATION:Zoom Webinar\, Online
CATEGORIES:Energy and Sustainability
ATTACH;FMTTYPE=image/jpeg:https://solarrais.co.za/wp-content/uploads/2026/02/How-to-add-sustainability-webinar.jpg
ORGANIZER;CN="Solar Rais":MAILTO:info@solarrais.co.za
END:VEVENT
END:VCALENDAR